BEGIN:VCALENDAR
VERSION:2.0
PRODID:-//horarios-mundial// World Cup 2026//EN
CALSCALE:GREGORIAN
METHOD:PUBLISH
BEGIN:VEVENT
UID:match-57@horarios-mundial.com.ar
DTSTAMP:20260426T033647Z
DTSTART:20260628T020000Z
DTEND:20260628T034500Z
SUMMARY:Algeria vs Austria · Mundial 2026
DESCRIPTION:Grupos · Grupo J. Arrowhead Stadium\, Por definir. Más info: ht
 tps://horarios-mundial.com.ar/en/matches/algeria-vs-austria
LOCATION:Arrowhead Stadium\, Por definir
URL:https://horarios-mundial.com.ar/en/matches/algeria-vs-austria
END:VEVENT
END:VCALENDAR