BEGIN:VCALENDAR
VERSION:2.0
PRODID:-//horarios-mundial// World Cup 2026//EN
CALSCALE:GREGORIAN
METHOD:PUBLISH
BEGIN:VEVENT
UID:match-58@horarios-mundial.com.ar
DTSTAMP:20260426T034119Z
DTSTART:20260617T010000Z
DTEND:20260617T024500Z
SUMMARY:Argentina vs Algeria · Mundial 2026
DESCRIPTION:Grupos · Grupo J. Arrowhead Stadium\, Por definir. Más info: ht
 tps://horarios-mundial.com.ar/en/matches/argentina-vs-algeria
LOCATION:Arrowhead Stadium\, Por definir
URL:https://horarios-mundial.com.ar/en/matches/argentina-vs-algeria
END:VEVENT
END:VCALENDAR