BEGIN:VCALENDAR
VERSION:2.0
PRODID:-//horarios-mundial// World Cup 2026//EN
CALSCALE:GREGORIAN
METHOD:PUBLISH
BEGIN:VEVENT
UID:match-56@horarios-mundial.com.ar
DTSTAMP:20260426T034114Z
DTSTART:20260622T170000Z
DTEND:20260622T184500Z
SUMMARY:Argentina vs Austria · Mundial 2026
DESCRIPTION:Grupos · Grupo J. AT&T Stadium\, Por definir. Más info: https:/
 /horarios-mundial.com.ar/en/matches/argentina-vs-austria
LOCATION:AT&T Stadium\, Por definir
URL:https://horarios-mundial.com.ar/en/matches/argentina-vs-austria
END:VEVENT
END:VCALENDAR