BEGIN:VCALENDAR
VERSION:2.0
PRODID:-//horarios-mundial// World Cup 2026//EN
CALSCALE:GREGORIAN
METHOD:PUBLISH
BEGIN:VEVENT
UID:match-19@horarios-mundial.com.ar
DTSTAMP:20260426T033800Z
DTSTART:20260614T040000Z
DTEND:20260614T054500Z
SUMMARY:Australia vs Turkey · Mundial 2026
DESCRIPTION:Grupos · Grupo D. BC Place\, Por definir. Más info: https://hor
 arios-mundial.com.ar/en/matches/australia-vs-turkey
LOCATION:BC Place\, Por definir
URL:https://horarios-mundial.com.ar/en/matches/australia-vs-turkey
END:VEVENT
END:VCALENDAR