BEGIN:VCALENDAR
VERSION:2.0
PRODID:-//horarios-mundial// World Cup 2026//EN
CALSCALE:GREGORIAN
METHOD:PUBLISH
BEGIN:VEVENT
UID:match-55@horarios-mundial.com.ar
DTSTAMP:20260426T033414Z
DTSTART:20260617T040000Z
DTEND:20260617T054500Z
SUMMARY:Austria vs Jordan · Mundial 2026
DESCRIPTION:Grupos · Grupo J. Levi's Stadium\, Por definir. Más info: https
 ://horarios-mundial.com.ar/en/matches/austria-vs-jordan
LOCATION:Levi's Stadium\, Por definir
URL:https://horarios-mundial.com.ar/en/matches/austria-vs-jordan
END:VEVENT
END:VCALENDAR