BEGIN:VCALENDAR
VERSION:2.0
PRODID:-//horarios-mundial// World Cup 2026//EN
CALSCALE:GREGORIAN
METHOD:PUBLISH
BEGIN:VEVENT
UID:match-38@horarios-mundial.com.ar
DTSTAMP:20260426T034221Z
DTSTART:20260621T190000Z
DTEND:20260621T204500Z
SUMMARY:Belgium vs IR Iran · Mundial 2026
DESCRIPTION:Grupos · Grupo G. SoFi Stadium\, Por definir. Más info: https:/
 /horarios-mundial.com.ar/en/matches/belgium-vs-ir-iran
LOCATION:SoFi Stadium\, Por definir
URL:https://horarios-mundial.com.ar/en/matches/belgium-vs-ir-iran
END:VEVENT
END:VCALENDAR