BEGIN:VCALENDAR
VERSION:2.0
PRODID:-//horarios-mundial// World Cup 2026//EN
CALSCALE:GREGORIAN
METHOD:PUBLISH
BEGIN:VEVENT
UID:match-16@horarios-mundial.com.ar
DTSTAMP:20260426T034229Z
DTSTART:20260620T010000Z
DTEND:20260620T024500Z
SUMMARY:Brazil vs Haiti · Mundial 2026
DESCRIPTION:Grupos · Grupo C. Lincoln Financial Field\, Por definir. Más in
 fo: https://horarios-mundial.com.ar/en/matches/brazil-vs-haiti
LOCATION:Lincoln Financial Field\, Por definir
URL:https://horarios-mundial.com.ar/en/matches/brazil-vs-haiti
END:VEVENT
END:VCALENDAR