BEGIN:VCALENDAR
VERSION:2.0
PRODID:-//horarios-mundial// World Cup 2026//EN
CALSCALE:GREGORIAN
METHOD:PUBLISH
BEGIN:VEVENT
UID:match-13@horarios-mundial.com.ar
DTSTAMP:20260426T034108Z
DTSTART:20260613T220000Z
DTEND:20260613T234500Z
SUMMARY:Brazil vs Morocco · Mundial 2026
DESCRIPTION:Grupos · Grupo C. MetLife Stadium\, Por definir. Más info: http
 s://horarios-mundial.com.ar/en/matches/brazil-vs-morocco
LOCATION:MetLife Stadium\, Por definir
URL:https://horarios-mundial.com.ar/en/matches/brazil-vs-morocco
END:VEVENT
END:VCALENDAR