BEGIN:VCALENDAR
VERSION:2.0
PRODID:-//horarios-mundial// World Cup 2026//EN
CALSCALE:GREGORIAN
METHOD:PUBLISH
BEGIN:VEVENT
UID:match-48@horarios-mundial.com.ar
DTSTAMP:20260426T033937Z
DTSTART:20260627T000000Z
DTEND:20260627T014500Z
SUMMARY:Cabo Verde vs Saudi Arabia · Mundial 2026
DESCRIPTION:Grupos · Grupo H. NRG Stadium\, Por definir. Más info: https://
 horarios-mundial.com.ar/en/matches/cabo-verde-vs-saudi-arabia
LOCATION:NRG Stadium\, Por definir
URL:https://horarios-mundial.com.ar/en/matches/cabo-verde-vs-saudi-arabia
END:VEVENT
END:VCALENDAR