BEGIN:VCALENDAR
VERSION:2.0
PRODID:-//horarios-mundial// World Cup 2026//EN
CALSCALE:GREGORIAN
METHOD:PUBLISH
BEGIN:VEVENT
UID:match-7@horarios-mundial.com.ar
DTSTAMP:20260426T034351Z
DTSTART:20260612T190000Z
DTEND:20260612T204500Z
SUMMARY:Canada vs Bosnia-Herzegovina · Mundial 2026
DESCRIPTION:Grupos · Grupo B. BMO Field\, Por definir. Más info: https://ho
 rarios-mundial.com.ar/en/matches/canada-vs-bosnia-herzegovina
LOCATION:BMO Field\, Por definir
URL:https://horarios-mundial.com.ar/en/matches/canada-vs-bosnia-herzegovina
END:VEVENT
END:VCALENDAR