BEGIN:VCALENDAR
VERSION:2.0
PRODID:-//horarios-mundial// World Cup 2026//EN
CALSCALE:GREGORIAN
METHOD:PUBLISH
BEGIN:VEVENT
UID:match-65@horarios-mundial.com.ar
DTSTAMP:20260426T034204Z
DTSTART:20260627T233000Z
DTEND:20260628T011500Z
SUMMARY:Congo DR vs Uzbekistan · Mundial 2026
DESCRIPTION:Grupos · Grupo K. Mercedes-Benz Stadium\, Por definir. Más info
 : https://horarios-mundial.com.ar/en/matches/congo-dr-vs-uzbekistan
LOCATION:Mercedes-Benz Stadium\, Por definir
URL:https://horarios-mundial.com.ar/en/matches/congo-dr-vs-uzbekistan
END:VEVENT
END:VCALENDAR