BEGIN:VCALENDAR
VERSION:2.0
PRODID:-//horarios-mundial// World Cup 2026//EN
CALSCALE:GREGORIAN
METHOD:PUBLISH
BEGIN:VEVENT
UID:match-28@horarios-mundial.com.ar
DTSTAMP:20260426T033805Z
DTSTART:20260614T230000Z
DTEND:20260615T004500Z
SUMMARY:Côte d'Ivoire vs Ecuador · Mundial 2026
DESCRIPTION:Grupos · Grupo E. Lincoln Financial Field\, Por definir. Más in
 fo: https://horarios-mundial.com.ar/en/matches/cote-divoire-vs-ecuador
LOCATION:Lincoln Financial Field\, Por definir
URL:https://horarios-mundial.com.ar/en/matches/cote-divoire-vs-ecuador
END:VEVENT
END:VCALENDAR