BEGIN:VCALENDAR
VERSION:2.0
PRODID:-//horarios-mundial// World Cup 2026//EN
CALSCALE:GREGORIAN
METHOD:PUBLISH
BEGIN:VEVENT
UID:match-72@horarios-mundial.com.ar
DTSTAMP:20260426T034719Z
DTSTART:20260627T210000Z
DTEND:20260627T224500Z
SUMMARY:Croatia vs Ghana · Mundial 2026
DESCRIPTION:Grupos · Grupo L. Lincoln Financial Field\, Por definir. Más in
 fo: https://horarios-mundial.com.ar/en/matches/croatia-vs-ghana
LOCATION:Lincoln Financial Field\, Por definir
URL:https://horarios-mundial.com.ar/en/matches/croatia-vs-ghana
END:VEVENT
END:VCALENDAR