BEGIN:VCALENDAR
VERSION:2.0
PRODID:-//horarios-mundial// World Cup 2026//EN
CALSCALE:GREGORIAN
METHOD:PUBLISH
BEGIN:VEVENT
UID:match-6@horarios-mundial.com.ar
DTSTAMP:20260426T033827Z
DTSTART:20260625T010000Z
DTEND:20260625T024500Z
SUMMARY:Czechia vs Mexico · Mundial 2026
DESCRIPTION:Grupos · Grupo A. Estadio Azteca\, Por definir. Más info: https
 ://horarios-mundial.com.ar/en/matches/czechia-vs-mexico
LOCATION:Estadio Azteca\, Por definir
URL:https://horarios-mundial.com.ar/en/matches/czechia-vs-mexico
END:VEVENT
END:VCALENDAR