BEGIN:VCALENDAR
VERSION:2.0
PRODID:-//horarios-mundial// World Cup 2026//EN
CALSCALE:GREGORIAN
METHOD:PUBLISH
BEGIN:VEVENT
UID:match-3@horarios-mundial.com.ar
DTSTAMP:20260426T034320Z
DTSTART:20260618T160000Z
DTEND:20260618T174500Z
SUMMARY:Czechia vs South Africa · Mundial 2026
DESCRIPTION:Grupos · Grupo A. Mercedes-Benz Stadium\, Por definir. Más info
 : https://horarios-mundial.com.ar/en/matches/czechia-vs-south-africa
LOCATION:Mercedes-Benz Stadium\, Por definir
URL:https://horarios-mundial.com.ar/en/matches/czechia-vs-south-africa
END:VEVENT
END:VCALENDAR