BEGIN:VCALENDAR
VERSION:2.0
PRODID:-//horarios-mundial// World Cup 2026//EN
CALSCALE:GREGORIAN
METHOD:PUBLISH
BEGIN:VEVENT
UID:match-25@horarios-mundial.com.ar
DTSTAMP:20260426T033505Z
DTSTART:20260621T000000Z
DTEND:20260621T014500Z
SUMMARY:Ecuador vs Curaçao · Mundial 2026
DESCRIPTION:Grupos · Grupo E. Arrowhead Stadium\, Por definir. Más info: ht
 tps://horarios-mundial.com.ar/en/matches/ecuador-vs-curacao
LOCATION:Arrowhead Stadium\, Por definir
URL:https://horarios-mundial.com.ar/en/matches/ecuador-vs-curacao
END:VEVENT
END:VCALENDAR