BEGIN:VCALENDAR
VERSION:2.0
PRODID:-//horarios-mundial// World Cup 2026//EN
CALSCALE:GREGORIAN
METHOD:PUBLISH
BEGIN:VEVENT
UID:match-27@horarios-mundial.com.ar
DTSTAMP:20260426T033622Z
DTSTART:20260625T200000Z
DTEND:20260625T214500Z
SUMMARY:Ecuador vs Germany · Mundial 2026
DESCRIPTION:Grupos · Grupo E. MetLife Stadium\, Por definir. Más info: http
 s://horarios-mundial.com.ar/en/matches/ecuador-vs-germany
LOCATION:MetLife Stadium\, Por definir
URL:https://horarios-mundial.com.ar/en/matches/ecuador-vs-germany
END:VEVENT
END:VCALENDAR