BEGIN:VCALENDAR
VERSION:2.0
PRODID:-//horarios-mundial// World Cup 2026//EN
CALSCALE:GREGORIAN
METHOD:PUBLISH
BEGIN:VEVENT
UID:match-39@horarios-mundial.com.ar
DTSTAMP:20260426T033912Z
DTSTART:20260627T030000Z
DTEND:20260627T044500Z
SUMMARY:Egypt vs IR Iran · Mundial 2026
DESCRIPTION:Grupos · Grupo G. Lumen Field\, Por definir. Más info: https://
 horarios-mundial.com.ar/en/matches/egypt-vs-ir-iran
LOCATION:Lumen Field\, Por definir
URL:https://horarios-mundial.com.ar/en/matches/egypt-vs-ir-iran
END:VEVENT
END:VCALENDAR