BEGIN:VCALENDAR
VERSION:2.0
PRODID:-//horarios-mundial// World Cup 2026//EN
CALSCALE:GREGORIAN
METHOD:PUBLISH
BEGIN:VEVENT
UID:match-71@horarios-mundial.com.ar
DTSTAMP:20260426T033805Z
DTSTART:20260623T200000Z
DTEND:20260623T214500Z
SUMMARY:England vs Ghana · Mundial 2026
DESCRIPTION:Grupos · Grupo L. Gillette Stadium\, Por definir. Más info: htt
 ps://horarios-mundial.com.ar/en/matches/england-vs-ghana
LOCATION:Gillette Stadium\, Por definir
URL:https://horarios-mundial.com.ar/en/matches/england-vs-ghana
END:VEVENT
END:VCALENDAR