BEGIN:VCALENDAR
VERSION:2.0
PRODID:-//horarios-mundial// World Cup 2026//EN
CALSCALE:GREGORIAN
METHOD:PUBLISH
BEGIN:VEVENT
UID:match-49@horarios-mundial.com.ar
DTSTAMP:20260426T034229Z
DTSTART:20260622T210000Z
DTEND:20260622T224500Z
SUMMARY:France vs Iraq · Mundial 2026
DESCRIPTION:Grupos · Grupo I. Lincoln Financial Field\, Por definir. Más in
 fo: https://horarios-mundial.com.ar/en/matches/france-vs-iraq
LOCATION:Lincoln Financial Field\, Por definir
URL:https://horarios-mundial.com.ar/en/matches/france-vs-iraq
END:VEVENT
END:VCALENDAR