BEGIN:VCALENDAR
VERSION:2.0
PRODID:-//horarios-mundial// World Cup 2026//EN
CALSCALE:GREGORIAN
METHOD:PUBLISH
BEGIN:VEVENT
UID:match-52@horarios-mundial.com.ar
DTSTAMP:20260426T033826Z
DTSTART:20260616T190000Z
DTEND:20260616T204500Z
SUMMARY:France vs Senegal · Mundial 2026
DESCRIPTION:Grupos · Grupo I. MetLife Stadium\, Por definir. Más info: http
 s://horarios-mundial.com.ar/en/matches/france-vs-senegal
LOCATION:MetLife Stadium\, Por definir
URL:https://horarios-mundial.com.ar/en/matches/france-vs-senegal
END:VEVENT
END:VCALENDAR