BEGIN:VCALENDAR
VERSION:2.0
PRODID:-//horarios-mundial// World Cup 2026//EN
CALSCALE:GREGORIAN
METHOD:PUBLISH
BEGIN:VEVENT
UID:match-26@horarios-mundial.com.ar
DTSTAMP:20260426T033456Z
DTSTART:20260614T170000Z
DTEND:20260614T184500Z
SUMMARY:Germany vs Curaçao · Mundial 2026
DESCRIPTION:Grupos · Grupo E. NRG Stadium\, Por definir. Más info: https://
 horarios-mundial.com.ar/en/matches/germany-vs-curacao
LOCATION:NRG Stadium\, Por definir
URL:https://horarios-mundial.com.ar/en/matches/germany-vs-curacao
END:VEVENT
END:VCALENDAR