BEGIN:VCALENDAR
VERSION:2.0
PRODID:-//horarios-mundial// World Cup 2026//EN
CALSCALE:GREGORIAN
METHOD:PUBLISH
BEGIN:VEVENT
UID:match-70@horarios-mundial.com.ar
DTSTAMP:20260426T033725Z
DTSTART:20260617T230000Z
DTEND:20260618T004500Z
SUMMARY:Ghana vs Panama · Mundial 2026
DESCRIPTION:Grupos · Grupo L. BMO Field\, Por definir. Más info: https://ho
 rarios-mundial.com.ar/en/matches/ghana-vs-panama
LOCATION:BMO Field\, Por definir
URL:https://horarios-mundial.com.ar/en/matches/ghana-vs-panama
END:VEVENT
END:VCALENDAR