BEGIN:VCALENDAR
VERSION:2.0
PRODID:-//horarios-mundial// World Cup 2026//EN
CALSCALE:GREGORIAN
METHOD:PUBLISH
BEGIN:VEVENT
UID:match-15@horarios-mundial.com.ar
DTSTAMP:20260426T033939Z
DTSTART:20260614T010000Z
DTEND:20260614T024500Z
SUMMARY:Haiti vs Scotland · Mundial 2026
DESCRIPTION:Grupos · Grupo C. Gillette Stadium\, Por definir. Más info: htt
 ps://horarios-mundial.com.ar/en/matches/haiti-vs-scotland
LOCATION:Gillette Stadium\, Por definir
URL:https://horarios-mundial.com.ar/en/matches/haiti-vs-scotland
END:VEVENT
END:VCALENDAR