BEGIN:VCALENDAR
VERSION:2.0
PRODID:-//horarios-mundial// World Cup 2026//EN
CALSCALE:GREGORIAN
METHOD:PUBLISH
BEGIN:VEVENT
UID:match-37@horarios-mundial.com.ar
DTSTAMP:20260426T034325Z
DTSTART:20260616T010000Z
DTEND:20260616T024500Z
SUMMARY:IR Iran vs New Zealand · Mundial 2026
DESCRIPTION:Grupos · Grupo G. SoFi Stadium\, Por definir. Más info: https:/
 /horarios-mundial.com.ar/en/matches/ir-iran-vs-new-zealand
LOCATION:SoFi Stadium\, Por definir
URL:https://horarios-mundial.com.ar/en/matches/ir-iran-vs-new-zealand
END:VEVENT
END:VCALENDAR