BEGIN:VCALENDAR
VERSION:2.0
PRODID:-//horarios-mundial// World Cup 2026//EN
CALSCALE:GREGORIAN
METHOD:PUBLISH
BEGIN:VEVENT
UID:match-32@horarios-mundial.com.ar
DTSTAMP:20260426T033911Z
DTSTART:20260625T230000Z
DTEND:20260626T004500Z
SUMMARY:Japan vs Sweden · Mundial 2026
DESCRIPTION:Grupos · Grupo F. AT&T Stadium\, Por definir. Más info: https:/
 /horarios-mundial.com.ar/en/matches/japan-vs-sweden
LOCATION:AT&T Stadium\, Por definir
URL:https://horarios-mundial.com.ar/en/matches/japan-vs-sweden
END:VEVENT
END:VCALENDAR