BEGIN:VCALENDAR
VERSION:2.0
PRODID:-//horarios-mundial// World Cup 2026//EN
CALSCALE:GREGORIAN
METHOD:PUBLISH
BEGIN:VEVENT
UID:match-59@horarios-mundial.com.ar
DTSTAMP:20260426T034022Z
DTSTART:20260623T030000Z
DTEND:20260623T044500Z
SUMMARY:Jordan vs Algeria · Mundial 2026
DESCRIPTION:Grupos · Grupo J. Levi's Stadium\, Por definir. Más info: https
 ://horarios-mundial.com.ar/en/matches/jordan-vs-algeria
LOCATION:Levi's Stadium\, Por definir
URL:https://horarios-mundial.com.ar/en/matches/jordan-vs-algeria
END:VEVENT
END:VCALENDAR