BEGIN:VCALENDAR
VERSION:2.0
PRODID:-//horarios-mundial// World Cup 2026//EN
CALSCALE:GREGORIAN
METHOD:PUBLISH
BEGIN:VEVENT
UID:match-1@horarios-mundial.com.ar
DTSTAMP:20260426T033950Z
DTSTART:20260612T020000Z
DTEND:20260612T034500Z
SUMMARY:Korea Republic vs Czechia · Mundial 2026
DESCRIPTION:Grupos · Grupo A. Estadio Akron\, Por definir. Más info: https:
 //horarios-mundial.com.ar/en/matches/korea-republic-vs-czechia
LOCATION:Estadio Akron\, Por definir
URL:https://horarios-mundial.com.ar/en/matches/korea-republic-vs-czechia
END:VEVENT
END:VCALENDAR