BEGIN:VCALENDAR
VERSION:2.0
PRODID:-//horarios-mundial// World Cup 2026//EN
CALSCALE:GREGORIAN
METHOD:PUBLISH
BEGIN:VEVENT
UID:match-100@horarios-mundial.com.ar
DTSTAMP:20260426T033345Z
DTSTART:20260701T010000Z
DTEND:20260701T024500Z
SUMMARY:Por definir vs Por definir · Mundial 2026
DESCRIPTION:R32. Estadio Azteca\, Por definir. Más info: https://horarios-m
 undial.com.ar/en/matches/match-100
LOCATION:Estadio Azteca\, Por definir
URL:https://horarios-mundial.com.ar/en/matches/match-100
END:VEVENT
END:VCALENDAR