BEGIN:VCALENDAR
VERSION:2.0
PRODID:-//horarios-mundial// World Cup 2026//EN
CALSCALE:GREGORIAN
METHOD:PUBLISH
BEGIN:VEVENT
UID:match-74@horarios-mundial.com.ar
DTSTAMP:20260426T033344Z
DTSTART:20260705T200000Z
DTEND:20260705T214500Z
SUMMARY:Por definir vs Por definir · Mundial 2026
DESCRIPTION:R16. MetLife Stadium\, Por definir. Más info: https://horarios-
 mundial.com.ar/en/matches/match-74
LOCATION:MetLife Stadium\, Por definir
URL:https://horarios-mundial.com.ar/en/matches/match-74
END:VEVENT
END:VCALENDAR