BEGIN:VCALENDAR
VERSION:2.0
PRODID:-//horarios-mundial// World Cup 2026//EN
CALSCALE:GREGORIAN
METHOD:PUBLISH
BEGIN:VEVENT
UID:match-75@horarios-mundial.com.ar
DTSTAMP:20260426T033309Z
DTSTART:20260630T210000Z
DTEND:20260630T224500Z
SUMMARY:Por definir vs Por definir · Mundial 2026
DESCRIPTION:R32. MetLife Stadium\, Por definir. Más info: https://horarios-
 mundial.com.ar/en/matches/match-75
LOCATION:MetLife Stadium\, Por definir
URL:https://horarios-mundial.com.ar/en/matches/match-75
END:VEVENT
END:VCALENDAR