BEGIN:VCALENDAR
VERSION:2.0
PRODID:-//horarios-mundial// World Cup 2026//EN
CALSCALE:GREGORIAN
METHOD:PUBLISH
BEGIN:VEVENT
UID:match-80@horarios-mundial.com.ar
DTSTAMP:20260426T033308Z
DTSTART:20260710T190000Z
DTEND:20260710T204500Z
SUMMARY:Por definir vs Por definir · Mundial 2026
DESCRIPTION:QF. SoFi Stadium\, Por definir. Más info: https://horarios-mund
 ial.com.ar/en/matches/match-80
LOCATION:SoFi Stadium\, Por definir
URL:https://horarios-mundial.com.ar/en/matches/match-80
END:VEVENT
END:VCALENDAR