BEGIN:VCALENDAR
VERSION:2.0
PRODID:-//horarios-mundial// World Cup 2026//EN
CALSCALE:GREGORIAN
METHOD:PUBLISH
BEGIN:VEVENT
UID:match-83@horarios-mundial.com.ar
DTSTAMP:20260426T033013Z
DTSTART:20260702T000000Z
DTEND:20260702T014500Z
SUMMARY:Por definir vs Por definir · Mundial 2026
DESCRIPTION:R32. Levi's Stadium\, Por definir. Más info: https://horarios-m
 undial.com.ar/en/matches/match-83
LOCATION:Levi's Stadium\, Por definir
URL:https://horarios-mundial.com.ar/en/matches/match-83
END:VEVENT
END:VCALENDAR