BEGIN:VCALENDAR
VERSION:2.0
PRODID:-//horarios-mundial// World Cup 2026//EN
CALSCALE:GREGORIAN
METHOD:PUBLISH
BEGIN:VEVENT
UID:match-85@horarios-mundial.com.ar
DTSTAMP:20260426T033305Z
DTSTART:20260711T210000Z
DTEND:20260711T224500Z
SUMMARY:Por definir vs Por definir · Mundial 2026
DESCRIPTION:QF. Hard Rock Stadium\, Por definir. Más info: https://horarios
 -mundial.com.ar/en/matches/match-85
LOCATION:Hard Rock Stadium\, Por definir
URL:https://horarios-mundial.com.ar/en/matches/match-85
END:VEVENT
END:VCALENDAR