BEGIN:VCALENDAR
VERSION:2.0
PRODID:-//horarios-mundial// World Cup 2026//EN
CALSCALE:GREGORIAN
METHOD:PUBLISH
BEGIN:VEVENT
UID:match-86@horarios-mundial.com.ar
DTSTAMP:20260426T032941Z
DTSTART:20260703T220000Z
DTEND:20260703T234500Z
SUMMARY:Por definir vs Por definir · Mundial 2026
DESCRIPTION:R32. Hard Rock Stadium\, Por definir. Más info: https://horario
 s-mundial.com.ar/en/matches/match-86
LOCATION:Hard Rock Stadium\, Por definir
URL:https://horarios-mundial.com.ar/en/matches/match-86
END:VEVENT
END:VCALENDAR