BEGIN:VCALENDAR
VERSION:2.0
PRODID:-//horarios-mundial// World Cup 2026//EN
CALSCALE:GREGORIAN
METHOD:PUBLISH
BEGIN:VEVENT
UID:match-87@horarios-mundial.com.ar
DTSTAMP:20260426T033014Z
DTSTART:20260707T000000Z
DTEND:20260707T014500Z
SUMMARY:Por definir vs Por definir · Mundial 2026
DESCRIPTION:R16. Lumen Field\, Por definir. Más info: https://horarios-mund
 ial.com.ar/en/matches/match-87
LOCATION:Lumen Field\, Por definir
URL:https://horarios-mundial.com.ar/en/matches/match-87
END:VEVENT
END:VCALENDAR