BEGIN:VCALENDAR
VERSION:2.0
PRODID:-//horarios-mundial// World Cup 2026//EN
CALSCALE:GREGORIAN
METHOD:PUBLISH
BEGIN:VEVENT
UID:match-90@horarios-mundial.com.ar
DTSTAMP:20260426T032942Z
DTSTART:20260712T010000Z
DTEND:20260712T024500Z
SUMMARY:Por definir vs Por definir · Mundial 2026
DESCRIPTION:QF. Arrowhead Stadium\, Por definir. Más info: https://horarios
 -mundial.com.ar/en/matches/match-90
LOCATION:Arrowhead Stadium\, Por definir
URL:https://horarios-mundial.com.ar/en/matches/match-90
END:VEVENT
END:VCALENDAR