BEGIN:VCALENDAR
VERSION:2.0
PRODID:-//horarios-mundial// World Cup 2026//EN
CALSCALE:GREGORIAN
METHOD:PUBLISH
BEGIN:VEVENT
UID:match-91@horarios-mundial.com.ar
DTSTAMP:20260426T033623Z
DTSTART:20260704T013000Z
DTEND:20260704T031500Z
SUMMARY:Por definir vs Por definir · Mundial 2026
DESCRIPTION:R32. Arrowhead Stadium\, Por definir. Más info: https://horario
 s-mundial.com.ar/en/matches/match-91
LOCATION:Arrowhead Stadium\, Por definir
URL:https://horarios-mundial.com.ar/en/matches/match-91
END:VEVENT
END:VCALENDAR