BEGIN:VCALENDAR
VERSION:2.0
PRODID:-//horarios-mundial// World Cup 2026//EN
CALSCALE:GREGORIAN
METHOD:PUBLISH
BEGIN:VEVENT
UID:match-92@horarios-mundial.com.ar
DTSTAMP:20260426T033308Z
DTSTART:20260709T200000Z
DTEND:20260709T214500Z
SUMMARY:Por definir vs Por definir · Mundial 2026
DESCRIPTION:QF. Gillette Stadium\, Por definir. Más info: https://horarios-
 mundial.com.ar/en/matches/match-92
LOCATION:Gillette Stadium\, Por definir
URL:https://horarios-mundial.com.ar/en/matches/match-92
END:VEVENT
END:VCALENDAR