BEGIN:VCALENDAR
VERSION:2.0
PRODID:-//horarios-mundial// World Cup 2026//EN
CALSCALE:GREGORIAN
METHOD:PUBLISH
BEGIN:VEVENT
UID:match-94@horarios-mundial.com.ar
DTSTAMP:20260426T033141Z
DTSTART:20260704T170000Z
DTEND:20260704T184500Z
SUMMARY:Por definir vs Por definir · Mundial 2026
DESCRIPTION:R16. NRG Stadium\, Por definir. Más info: https://horarios-mund
 ial.com.ar/en/matches/match-94
LOCATION:NRG Stadium\, Por definir
URL:https://horarios-mundial.com.ar/en/matches/match-94
END:VEVENT
END:VCALENDAR