BEGIN:VCALENDAR
VERSION:2.0
PRODID:-//horarios-mundial// World Cup 2026//EN
CALSCALE:GREGORIAN
METHOD:PUBLISH
BEGIN:VEVENT
UID:match-98@horarios-mundial.com.ar
DTSTAMP:20260426T033140Z
DTSTART:20260702T230000Z
DTEND:20260703T004500Z
SUMMARY:Por definir vs Por definir · Mundial 2026
DESCRIPTION:R32. BMO Field\, Por definir. Más info: https://horarios-mundia
 l.com.ar/en/matches/match-98
LOCATION:BMO Field\, Por definir
URL:https://horarios-mundial.com.ar/en/matches/match-98
END:VEVENT
END:VCALENDAR