BEGIN:VCALENDAR
VERSION:2.0
PRODID:-//horarios-mundial// World Cup 2026//EN
CALSCALE:GREGORIAN
METHOD:PUBLISH
BEGIN:VEVENT
UID:match-99@horarios-mundial.com.ar
DTSTAMP:20260426T032952Z
DTSTART:20260706T000000Z
DTEND:20260706T014500Z
SUMMARY:Por definir vs Por definir · Mundial 2026
DESCRIPTION:R16. Estadio Azteca\, Por definir. Más info: https://horarios-m
 undial.com.ar/en/matches/match-99
LOCATION:Estadio Azteca\, Por definir
URL:https://horarios-mundial.com.ar/en/matches/match-99
END:VEVENT
END:VCALENDAR