BEGIN:VCALENDAR
VERSION:2.0
PRODID:-//horarios-mundial// World Cup 2026//EN
CALSCALE:GREGORIAN
METHOD:PUBLISH
BEGIN:VEVENT
UID:match-4@horarios-mundial.com.ar
DTSTAMP:20260426T033938Z
DTSTART:20260619T010000Z
DTEND:20260619T024500Z
SUMMARY:Mexico vs Korea Republic · Mundial 2026
DESCRIPTION:Grupos · Grupo A. Estadio Akron\, Por definir. Más info: https:
 //horarios-mundial.com.ar/en/matches/mexico-vs-korea-republic
LOCATION:Estadio Akron\, Por definir
URL:https://horarios-mundial.com.ar/en/matches/mexico-vs-korea-republic
END:VEVENT
END:VCALENDAR