BEGIN:VCALENDAR
VERSION:2.0
PRODID:-//horarios-mundial// World Cup 2026//EN
CALSCALE:GREGORIAN
METHOD:PUBLISH
BEGIN:VEVENT
UID:match-2@horarios-mundial.com.ar
DTSTAMP:20260426T033949Z
DTSTART:20260611T190000Z
DTEND:20260611T204500Z
SUMMARY:Mexico vs South Africa · Mundial 2026
DESCRIPTION:Grupos · Grupo A. Estadio Azteca\, Por definir. Más info: https
 ://horarios-mundial.com.ar/en/matches/mexico-vs-south-africa
LOCATION:Estadio Azteca\, Por definir
URL:https://horarios-mundial.com.ar/en/matches/mexico-vs-south-africa
END:VEVENT
END:VCALENDAR