BEGIN:VCALENDAR
VERSION:2.0
PRODID:-//horarios-mundial// World Cup 2026//EN
CALSCALE:GREGORIAN
METHOD:PUBLISH
BEGIN:VEVENT
UID:match-34@horarios-mundial.com.ar
DTSTAMP:20260426T033647Z
DTSTART:20260614T200000Z
DTEND:20260614T214500Z
SUMMARY:Netherlands vs Japan · Mundial 2026
DESCRIPTION:Grupos · Grupo F. AT&T Stadium\, Por definir. Más info: https:/
 /horarios-mundial.com.ar/en/matches/netherlands-vs-japan
LOCATION:AT&T Stadium\, Por definir
URL:https://horarios-mundial.com.ar/en/matches/netherlands-vs-japan
END:VEVENT
END:VCALENDAR