BEGIN:VCALENDAR
VERSION:2.0
PRODID:-//horarios-mundial// World Cup 2026//EN
CALSCALE:GREGORIAN
METHOD:PUBLISH
BEGIN:VEVENT
UID:match-31@horarios-mundial.com.ar
DTSTAMP:20260426T033711Z
DTSTART:20260620T170000Z
DTEND:20260620T184500Z
SUMMARY:Netherlands vs Sweden · Mundial 2026
DESCRIPTION:Grupos · Grupo F. NRG Stadium\, Por definir. Más info: https://
 horarios-mundial.com.ar/en/matches/netherlands-vs-sweden
LOCATION:NRG Stadium\, Por definir
URL:https://horarios-mundial.com.ar/en/matches/netherlands-vs-sweden
END:VEVENT
END:VCALENDAR