BEGIN:VCALENDAR
VERSION:2.0
PRODID:-//horarios-mundial// World Cup 2026//EN
CALSCALE:GREGORIAN
METHOD:PUBLISH
BEGIN:VEVENT
UID:match-42@horarios-mundial.com.ar
DTSTAMP:20260426T034351Z
DTSTART:20260627T030000Z
DTEND:20260627T044500Z
SUMMARY:New Zealand vs Belgium · Mundial 2026
DESCRIPTION:Grupos · Grupo G. BC Place\, Por definir. Más info: https://hor
 arios-mundial.com.ar/en/matches/new-zealand-vs-belgium
LOCATION:BC Place\, Por definir
URL:https://horarios-mundial.com.ar/en/matches/new-zealand-vs-belgium
END:VEVENT
END:VCALENDAR