BEGIN:VCALENDAR
VERSION:2.0
PRODID:-//horarios-mundial// World Cup 2026//EN
CALSCALE:GREGORIAN
METHOD:PUBLISH
BEGIN:VEVENT
UID:match-41@horarios-mundial.com.ar
DTSTAMP:20260426T034321Z
DTSTART:20260622T010000Z
DTEND:20260622T024500Z
SUMMARY:New Zealand vs Egypt · Mundial 2026
DESCRIPTION:Grupos · Grupo G. BC Place\, Por definir. Más info: https://hor
 arios-mundial.com.ar/en/matches/new-zealand-vs-egypt
LOCATION:BC Place\, Por definir
URL:https://horarios-mundial.com.ar/en/matches/new-zealand-vs-egypt
END:VEVENT
END:VCALENDAR