BEGIN:VCALENDAR
VERSION:2.0
PRODID:-//horarios-mundial// World Cup 2026//EN
CALSCALE:GREGORIAN
METHOD:PUBLISH
BEGIN:VEVENT
UID:match-54@horarios-mundial.com.ar
DTSTAMP:20260426T033937Z
DTSTART:20260626T190000Z
DTEND:20260626T204500Z
SUMMARY:Norway vs France · Mundial 2026
DESCRIPTION:Grupos · Grupo I. Gillette Stadium\, Por definir. Más info: htt
 ps://horarios-mundial.com.ar/en/matches/norway-vs-france
LOCATION:Gillette Stadium\, Por definir
URL:https://horarios-mundial.com.ar/en/matches/norway-vs-france
END:VEVENT
END:VCALENDAR