BEGIN:VCALENDAR
VERSION:2.0
PRODID:-//horarios-mundial// World Cup 2026//EN
CALSCALE:GREGORIAN
METHOD:PUBLISH
BEGIN:VEVENT
UID:match-69@horarios-mundial.com.ar
DTSTAMP:20260426T033414Z
DTSTART:20260627T210000Z
DTEND:20260627T224500Z
SUMMARY:Panama vs England · Mundial 2026
DESCRIPTION:Grupos · Grupo L. MetLife Stadium\, Por definir. Más info: http
 s://horarios-mundial.com.ar/en/matches/panama-vs-england
LOCATION:MetLife Stadium\, Por definir
URL:https://horarios-mundial.com.ar/en/matches/panama-vs-england
END:VEVENT
END:VCALENDAR